BEGIN:VCALENDAR
VERSION:2.0
PRODID:icalendar-ruby
CALSCALE:GREGORIAN
METHOD:PUBLISH
BEGIN:VEVENT
DTSTAMP:20260424T154011Z
UID:172-674645@revenantworship.org
DTSTART:20261106T000000Z
DTEND:20261106T013000Z
CLASS:PUBLIC
CREATED:20260424T104430
DESCRIPTION:
LAST-MODIFIED:20260424T104430
LOCATION:Revenant Worship Center
SUMMARY:More than Martha
URL;VALUE=URI:https://www.revenantworship.org/events/more-than-martha--172/
 2026-11-05
ATTACH;FILENAME=MTM.jpg;FMTTYPE=image/jpeg:https://dq5pwpg1q8ru0.cloudfront
 .net/2025/12/31/02/00/44/65b8183c-2cac-447c-aa24-b28853ac5162/MTM.jpg
END:VEVENT
END:VCALENDAR
