BEGIN:VCALENDAR
VERSION:2.0
PRODID:icalendar-ruby
CALSCALE:GREGORIAN
METHOD:PUBLISH
BEGIN:VEVENT
DTSTAMP:20260422T073255Z
UID:172-672202@revenantworship.org
DTSTART:20260924T230000Z
DTEND:20260925T003000Z
CLASS:PUBLIC
CREATED:20260421T204609
DESCRIPTION:
LAST-MODIFIED:20260421T204609
LOCATION:Revenant Worship Center
SUMMARY:More than Martha
URL;VALUE=URI:https://www.revenantworship.org/events/more-than-martha--172/
 2026-09-24
ATTACH;FILENAME=MTM.jpg;FMTTYPE=image/jpeg:https://dq5pwpg1q8ru0.cloudfront
 .net/2025/12/31/02/00/44/65b8183c-2cac-447c-aa24-b28853ac5162/MTM.jpg
END:VEVENT
END:VCALENDAR
